BEGIN:VCALENDAR
VERSION:2.0
PRODID:-//hacksw/handcal//NONSGML v1.0//EN
CALSCALE:GREGORIAN
BEGIN:VEVENT
ORGANIZER;CN=Fortune Brands Innovations, Inc.:MAILTO:no-reply@mail.gcs-web.com
DTEND:
UID:a7ef7223-96a5-4186-a35b-45b777d2d1d4
DTSTAMP:1777128697
LOCATION:https://edge.media-server.com/mmc/p/9bk9fesh/
DESCRIPTION:Event Details https://ir.fbin.com/events/event-details/q1-2026-earnings-call\n\nWebcast: https://edge.media-server.com/mmc/p/9bk9fesh/
URL;VALUE=URI:https://edge.media-server.com/mmc/p/9bk9fesh/
SUMMARY:Fortune Brands Innovations, Inc. - Q1 2026 Earnings Call
DTSTART:20260507T210000Z
END:VEVENT
END:VCALENDAR